BEGIN:VCALENDAR
VERSION:2.0
PRODID:-//Plone.org//NONSGML plone.app.event//EN
X-WR-TIMEZONE:US/Eastern
BEGIN:VEVENT
SUMMARY:Cell Phone Investigations
DTSTART;TZID=America/Chicago;VALUE=DATE-TIME:20170621T083000
DTEND;TZID=America/Chicago;VALUE=DATE-TIME:20170621T150000
DTSTAMP;VALUE=DATE-TIME:20210511T213250Z
UID:aaeb8fd728db4a6b838b4a924c1b32b5
CONTACT:San Diego RCFL\, 858-638-7400\, rcfl@rcfl.gov
CREATED;VALUE=DATE-TIME:20180719T154754Z
DESCRIPTION:The Cell Phone Investigations Course is designed for the first
  responder and investigators. This 1-day course offers hands-on operation 
 of the UFED Touch\, exposes students to logical extraction and data analys
 is. Students can expect to perform a number of hands-on logical extraction
 s on various mobile devices with a variety of operating systems. Participa
 nts also create reports on findings and are exposed to the free UFED Reade
 r and how to use that to multiply investigative efforts. Learn and share k
 nowledge about iPhone\, Android\, and other smart phones.
LAST-MODIFIED;VALUE=DATE-TIME:20180719T154910Z
LOCATION:San Diego RCFL
URL:https://www.rcfl.gov/san-diego/training-schedule/cell-phone-investigat
 ions-6-17
END:VEVENT
BEGIN:VTIMEZONE
TZID:America/Chicago
X-LIC-LOCATION:America/Chicago
BEGIN:DAYLIGHT
DTSTART;VALUE=DATE-TIME:20170312T030000
TZNAME:CDT
TZOFFSETFROM:-0600
TZOFFSETTO:-0500
END:DAYLIGHT
END:VTIMEZONE
END:VCALENDAR
