BEGIN:VCALENDAR
VERSION:2.0
PRODID:-//Plone.org//NONSGML plone.app.event//EN
X-WR-TIMEZONE:US/Eastern
BEGIN:VEVENT
SUMMARY:Cell Phone Investigations – Basic
DTSTART;TZID=America/Chicago;VALUE=DATE-TIME:20190619T080000
DTEND;TZID=America/Chicago;VALUE=DATE-TIME:20190619T170000
DTSTAMP;VALUE=DATE-TIME:20210512T021824Z
UID:2cedabe5f6504f3da28a4d85c4fd2b32
CONTACT:858-638-7400
CREATED;VALUE=DATE-TIME:20190208T194727Z
DESCRIPTION:The Cell Phone Investigations Course is designed for first res
 ponders and investigators. This 1-day course offers hands-on operation of 
 the UFED4PC and exposes students to logical extraction and data analysis. 
 Students can expect to perform a number of hands-on logical extractions on
  various mobile devices with a variety of operating systems. Participants 
 also create reports on findings and are exposed to the free UFED Reader an
 d how to use that to multiply investigative efforts. Learn and share knowl
 edge about iPhone\, Android\, and other smart phones.
LAST-MODIFIED;VALUE=DATE-TIME:20190208T194808Z
LOCATION:San Diego RCFL
URL:https://www.rcfl.gov/san-diego/training-schedule/cell-phone-investigat
 ions--basic
END:VEVENT
BEGIN:VTIMEZONE
TZID:America/Chicago
X-LIC-LOCATION:America/Chicago
BEGIN:DAYLIGHT
DTSTART;VALUE=DATE-TIME:20190310T030000
TZNAME:CDT
TZOFFSETFROM:-0600
TZOFFSETTO:-0500
END:DAYLIGHT
END:VTIMEZONE
END:VCALENDAR
