BEGIN:VCALENDAR
VERSION:2.0
PRODID:-//Plone.org//NONSGML plone.app.event//EN
X-WR-TIMEZONE:US/Eastern
BEGIN:VEVENT
SUMMARY:Case Agent Investigative Review (CAIR)
DTSTART;TZID=America/Chicago;VALUE=DATE-TIME:20170712T080000
DTEND;TZID=America/Chicago;VALUE=DATE-TIME:20170712T170000
DTSTAMP;VALUE=DATE-TIME:20210511T213249Z
UID:8fc5e85caca246fdb55f5b69129c99ec
CONTACT:San Diego RCFL\, 858-638-7400\, rcfl@rcfl.gov
CREATED;VALUE=DATE-TIME:20180719T154524Z
DESCRIPTION:Forensic Tool Kit (FTK) is one of several tools that the San D
 iego RCFL uses while conducting digital forensics examinations. This one d
 ay course teaches investigators how to use FTK so they can conduct a compr
 ehensive review of the digital media that has been submitted to\, or proce
 ssed by the San Diego RCFL. This course also teaches investigators how to 
 locate and examine e-mail messages\, deleted files\, documents\, graphic f
 iles\, and how to search for key words and phrases.
LAST-MODIFIED;VALUE=DATE-TIME:20180719T154638Z
LOCATION:San Diego RCFL
URL:https://www.rcfl.gov/san-diego/training-schedule/case-agent-investigat
 ive-review-cair-7-18
END:VEVENT
BEGIN:VTIMEZONE
TZID:America/Chicago
X-LIC-LOCATION:America/Chicago
BEGIN:DAYLIGHT
DTSTART;VALUE=DATE-TIME:20170312T030000
TZNAME:CDT
TZOFFSETFROM:-0600
TZOFFSETTO:-0500
END:DAYLIGHT
END:VTIMEZONE
END:VCALENDAR
