BEGIN:VCALENDAR
VERSION:2.0
PRODID:-//Plone.org//NONSGML plone.app.event//EN
X-WR-TIMEZONE:US/Eastern
BEGIN:VEVENT
SUMMARY:Collection and Seizure of Mobile Devices
DTSTART;TZID=US/Eastern;VALUE=DATE-TIME:20210525T110000
DTEND;TZID=US/Eastern;VALUE=DATE-TIME:20210525T120000
DTSTAMP;VALUE=DATE-TIME:20210925T011647Z
UID:be845a1d5c754fb682260d942fb56172
CONTACT:https://ndcac.fbi.gov/register/best-practives-collection-seizure-o
 f-mobile-devices-for-investigators
CREATED;VALUE=DATE-TIME:20210514T181943Z
DESCRIPTION:Registration web form for Collection/Seizure of Mobile Devices
  for Investigators.
LAST-MODIFIED;VALUE=DATE-TIME:20210514T183129Z
URL:https://www.rcfl.gov/heart-of-america/training-schedule/collection-and
 -seizure-of-mobile-devices-052521
END:VEVENT
BEGIN:VTIMEZONE
TZID:US/Eastern
X-LIC-LOCATION:US/Eastern
BEGIN:DAYLIGHT
DTSTART;VALUE=DATE-TIME:20210314T030000
TZNAME:EDT
TZOFFSETFROM:-0500
TZOFFSETTO:-0400
END:DAYLIGHT
END:VTIMEZONE
END:VCALENDAR
