BEGIN:VCALENDAR
VERSION:2.0
PRODID:-//Plone.org//NONSGML plone.app.event//EN
X-WR-TIMEZONE:US/Eastern
BEGIN:VEVENT
SUMMARY:Cellebrite Advanced Smartphone Analysis (CASA)
DTSTART;VALUE=DATE:20210914
DTEND;VALUE=DATE:20210918
DTSTAMP;VALUE=DATE-TIME:20210925T011648Z
UID:1327620c4b6e425a86c1606021c635ac
CONTACT:Zachary Jury\, (816) 584-4300\, zsjury@fbi.gov
CREATED;VALUE=DATE-TIME:20210728T183931Z
DESCRIPTION:This 4-day advanced analysis course takes a hands-on\, in dept
 h approach into the forensic recovery of application data...
LAST-MODIFIED;VALUE=DATE-TIME:20210728T200732Z
LOCATION:4150 N Mulberry Drive Suite 250 Kansas City\, MO 64116
URL:https://www.rcfl.gov/heart-of-america/training-schedule/cellebrite-adv
 anced-smartphone-analysis-casa-
END:VEVENT
END:VCALENDAR
